BEGIN:VCALENDAR
VERSION:2.0
PRODID:-//Jason Aycock Auctioneering - ECPv6.15.20//NONSGML v1.0//EN
CALSCALE:GREGORIAN
METHOD:PUBLISH
X-WR-CALNAME:Jason Aycock Auctioneering
X-ORIGINAL-URL:https://aycockauctioneering.com
X-WR-CALDESC:Events for Jason Aycock Auctioneering
REFRESH-INTERVAL;VALUE=DURATION:PT1H
X-Robots-Tag:noindex
X-PUBLISHED-TTL:PT1H
BEGIN:VTIMEZONE
TZID:America/New_York
BEGIN:DAYLIGHT
TZOFFSETFROM:-0500
TZOFFSETTO:-0400
TZNAME:EDT
DTSTART:20250309T070000
END:DAYLIGHT
BEGIN:STANDARD
TZOFFSETFROM:-0400
TZOFFSETTO:-0500
TZNAME:EST
DTSTART:20251102T060000
END:STANDARD
BEGIN:DAYLIGHT
TZOFFSETFROM:-0500
TZOFFSETTO:-0400
TZNAME:EDT
DTSTART:20260308T070000
END:DAYLIGHT
BEGIN:STANDARD
TZOFFSETFROM:-0400
TZOFFSETTO:-0500
TZNAME:EST
DTSTART:20261101T060000
END:STANDARD
BEGIN:DAYLIGHT
TZOFFSETFROM:-0500
TZOFFSETTO:-0400
TZNAME:EDT
DTSTART:20270314T070000
END:DAYLIGHT
BEGIN:STANDARD
TZOFFSETFROM:-0400
TZOFFSETTO:-0500
TZNAME:EST
DTSTART:20271107T060000
END:STANDARD
END:VTIMEZONE
BEGIN:VEVENT
DTSTART;TZID=America/New_York:20260516T100000
DTEND;TZID=America/New_York:20260516T160000
DTSTAMP:20260425T144458
CREATED:20260423T140204Z
LAST-MODIFIED:20260424T115623Z
UID:17173-1778925600-1778947200@aycockauctioneering.com
SUMMARY:TEE SEALEY FARMING\, LLC - 6534 SISK CULBRETH RD - GODWIN\, NC - MAY 16TH @ 10AM
DESCRIPTION:TEE SEALEY FARMING\, LLC\n6534 SISK CULBRETH RD\nGODWIN\, NC\nMAY 16TH @ 10AM\n \n  \nCOMBINE\, TRACTOR\, SPRAYER & CONSTRUCTION EQUIPMENT \n2013 CASE 9230 COMBINE\, 4X4\, DUALS\, BACKUP CAMERA\, HYD FOLD BIN EXTENSIONS\, AUTO STEER\, 4731 ENGINE\, 2920 SEP HRS\, SN: YDG210305 \nNH 8970\, CAB\, MFWD\, DUALS\, POWERSHIFT TRANS\, 4 SETS REMOTES\, QUICK HITCH\, SADDLE TANKS\, WEIGHTS SELLS W/ TRIMBLE GFX-1060 AUTO STEER\, 8786 HRS\, SN: D408721 \nCASE SPX 3185 PATRIOT SPRAYER\, 4X4. 800 GAL POLY TANK\, 90′ BOOMS\, TRIMBLE 1050 AUTO STEER SYSTEM\, SECTION CONTROLS\, 5 TIP VALVE BODIES\, 1901 HRS\, SN:Y5T020169 \n2015 CASE 3162 TERRAFLEX 35′ DRAPER HEAD SN: YEH050067 \nGERINGHOFF NORTH STAR ELITE XL 8-ROW 30″ CORN HEAD\, POLY SNOUTS\, HYD DECK PLATES \nTEREX 780B BACKHOE\, CANOPY\, DSL ENG\, SHUTTLE SHIFT\, 4-N-1 BUCKET\, FOLD DOWN FORKS\, EXTEND-A-HOE\, 2602 HRS \nTERRA-GATOR 6103\, DSL\, TERRA SHIFT\, AG-CHEM\, L20206 BODY\, 23” RUBBER BELT\, TEEJET CENTERLINE 220\, 6274 HRS\, SN: 63004901 \nCAT 289D SKID STEER\, SELLS W/ 4-N-1 BUCKET\, 3598 HRS\, SN: W07468 \n  \nTRUCKS & TRAILERS \n2003 PETERBILT DAY CAB\, CAT C-12 DSL ENG\, EATON FULLER 12 SPD TRANS\, WETLINE\, 934K MILES (IN FRAME REBUILD @ 850K) \n2002 FORD F-650 DUMP TRUCK\, IH DSL\, 6 SPD MANUAL TRANS\, MILLER 16′ DUMP BED\, 124K MILES \n2008 GMC 3500 CREW CAB\, DURAMAX DSL ENG\, ALLISON AUTO TRANS CM\, 8′ 6″ ALUMINUM FLAT BED\, GOOSENECK HITCH\, 156\,961 MILES\, NEW BRAKES \n1999 CHEVROLET 3500\, GAS ENGINE\, AUTO TRANS\, 12′ STEEL BED SELLS W/ WELL DRILLING OUTFIT\, FORD GAS ENGINE\, MISSION WATER PUMP\, WELL BOOM\, 36K MILES \n2013 TIMPTE SUPER HOPPER ALUMINUM HOPPER BOTTOM\, ROLLOVER COVER \n2001 MAC 24′ STEEL FRAMELESS DUMP TRAILER\, ELECTRIC LOAD COVER\, BARN DOOR \n1990 GREAT DANE 48′ FLATBED TRAILER (TRAILER TWISTED) \nHUDSON 24′ TRAILER\, DUAL TANDEM AXLES\, DOVE TAIL\, STEEL RAMPS\, PINTOL HITCH (NO TITLE) \nEQUIPMENT \nKINZE 3115 8-ROW NO-TILL PLANTER\, ROW CLEANERS\, ROW MARKERS\, DIRECT SPRAY\, 30″ ROWS\, 2X2 SPRAY\, JOHN BLUE PUMP (LIKE NEW) \nCASE-IH RMX 340 68-BLADE WING FOLD DISC\, 9″ SPACINGS\, DRAG\, 24′ \nUNVERFERTH 5225 GRAIN CART\, ROLLOVER COVER (LIKE NEW) \nUNVERFERTH 26′ FIELD CULTIVATOR\, HYD FOLD \nBUSHHOG 2715 LEGEND 15’ BATWING BUSHHOG\, 540 PTO \n(2) 24′ 8000 BU GRAIN BINS\, TAKEN DOWN AND ON PALLETS \nREDDICK 8-ROW 300-GAL NITROGEN APPLICATOR\, JOHN BLUE PUMP \nCASE 2500 ECO-TILL 5-SHANK RIPPER\, PACK WHEELS 30″ \nCAT BR172 QUICK ATTACH BRUSH CUTTER (NEEDS NEW SHAFT TO BLADE CARRIER) \n150-GAL SADDLE TANKS \n3500-GAL POLY WATER TANK (HORIZONTAL) \nCASE-IH 496 68-BLADE WING FOLD DISC\, 9″ SPACING \n(2) HORST HEADER CART \n  \nCheck www.jasonaycockauctioneering.com for updates.   \n  \nFOR MORE INFORMATION CONTACT TEE SEALEY @ (910) 897-4210 \n  \nCONSIGNMENTS ACCEPTED. \n  \nDIRECTIONS:  FROM I-95 SOUTH TAKE EXIT 65 TO GODWIN FALCON RD-TAKE FIRST EXIT RIGHT ON ROUND ABOUT AND CONTINUE 1.8 MILES TO BURNETT RD. TURN LEFT. CONTINUE 2.3 MILES (ROAD TURNS INTO SISK CULBRETH RD) AND TURN LEFT AT SALE SITE 6534 SISK CULBRETH RD\, GODWIN \n  \n  \nAUCTIONEER NOTE: TEE HAS DECIDED TO LIQUIDATE HIS ROW CROP EQUIPMENT TO FOCUS MORE ON THE CATTLE AND OTHER ENTERPRISES.  HIS EQUIPMENT IS CLEAN\, SHED KEPT & WELL MAINTAINED.  WE LOOK FORWARD TO SEEING YOU ON MAY 16TH.  FOR MORE INFORMATION CONTACT TEE @ (910) 897-4210. \n                                                                                                                                                                                                                                                                                                                                                                                                                                                                                                                                                                                                                                                                                                                                                                                                                                                                                                                                                                                                                                                                                                                                                                                                                                                                                                                                                                                                                                                                                                                                                                                                                                                                                                                                                                                                                                                                                                                                                                                                                                                                                                                                                                                                                                                                                                                                                                                                                                                                                                                                                                                                                                                                                                                                                                                                                                                                                                                                                                                                                                                                                                                                                                                                                                                                                                                                                                                                                                                                                                                                                                                                                                                                                                                                                                                                                                                                                                                                                                                                                                                                                                                                                                                                                                                                                                                                                                                                                                                                                                                                                                                                                                                                                                                                                                                                                                                                                                                                                                                                                                                                                                                                                                                                                                                                                                                                                                                                                                                                                                                                                                                                                                                                                                                                                                                                                                                                                                                                                                                                                                                                                                                                                                                                                                                                                                                                                                                                                                                                                                                                                                                                                                         «              ‹              																										of																					3																	                              ›                »
URL:https://aycockauctioneering.com/event/tee-sealey-farming-llc-6534-sisk-culbreth-rd-godwin-nc-may-16th-10am/
LOCATION:6534 SISK CULBRETH RD\, 6534 SISK CULBRETH RD\, GODWIN\, NC\, United States
CATEGORIES:Equipment,Farm Equipment
ATTACH;FMTTYPE=image/jpeg:https://aycockauctioneering.com/wp-content/uploads/2026/04/IMG_6252-scaled.jpg
END:VEVENT
BEGIN:VEVENT
DTSTART;TZID=America/New_York:20260523T100000
DTEND;TZID=America/New_York:20260523T160000
DTSTAMP:20260425T144458
CREATED:20260423T141040Z
LAST-MODIFIED:20260424T123825Z
UID:17176-1779530400-1779552000@aycockauctioneering.com
SUMMARY:BENNY ROWLAND RETIREMENT CONSTRUCTION EQUIPMENT AUCTION - FOUR OAKS\, NC MAY 23RD @ 10 AM
DESCRIPTION:BENNY ROWLAND RETIREMENT\nCONSTRUCTION EQUIPMENT\n2880 ELEVATION RD\nFOUR OAKS\, NC\nMAY 23RD @ 10 AM\n  \nCONSTRUCTION EQUIPMENT \nVOLVO EC300 EL EXCAVATOR\, 48″ BUCKET\, 35 1/2″ TRACKS\, PLUMBED FOR A HYDRAULIC THUMB\, SETUP FOR GPS\, 2098 HRS\, SN:314634 \nVOLVO EC300EL EXCAVATOR\, 48″ BUCKET\, 35 1/2″ TRACKS\, 2744 HRS\, SN:00314263 \nHITACHI ZAXIS 85 USB MINI EXCAVATOR\, HYDRAULIC SWING BOOM\, FRONT BLADE\, 2485 HRS\, SN: HCMDEF60P00020149 \nJD 333G SKID STEER\, CAB\, HIFLOW\, ELECTRIC QUICK COUPLING\, 538 HRS\, SN: 333423 \nJD 3MH60D MULCHING HEAD\, QUICK ATTACH (NOT USED MUCH) \nDIAMOND QUICK ATTACH BRUSH CUTTER (BEEN USED 1 TIME) \nVOLVO L60H WHEEL LOADER\, CAB\, 3SPD TRANS\, HYDRAULIC QUICK COUPLER BUCKET & FORKS\, 7013 HRS\, SN:621287 \nVOLVO L60E WHEEL LOADER\, CAB\, 4 SPD TRANS\, HYDRAULIC QUICK COUPLER BUCKET & FORKS\, 7493 HRS\, 60332 \nVOLVO L70E WHEEL LOADER\, CAB\, 4 SPD TRANS\, QUICK COUPLER BUCKET & FORKS\, 16\,021 HRS\, SN:60302 \nCAT D3C LGP DOZER\, DSL\, HYDRASTAT TRANS\, 6-WAY BLADE\, ROPS\, 6126 HRS \nDYNAPAC CA152 RIDE ON SHEEP FOOT ROLLER\, 66″\, SN:64320716 \nDYNAPAC CA150 RIDE ON SHEEP FOOT ROLLER OR SMOOTH DRUM ROLLER\, 66″\, 3807 HRS \n(2) BMP 8500 ECOMODE RAMMAX\, REMOTE CONTROL \n2016 FORD F-350 CREW CAB SERVICE TRUCK\, GAS ENG\, AUTO TRANS\, 9′ READING SERVICE BODY\, LADDER RACK\, 134K MILES \n2017 FORD F-350 XL CREW CAB SERVICE TRUCK\, GAS ENG\, AUTO TRANS\, 9′ READING SERVICE BODY\, LADDER RACK\, 139K MILES \n2015 FORD F-350 SUPER DUTY CREW CAB SERVICE TRUCK\, GAS ENG\, AUTO TRANS\, 9′ READING SERVICE BODY\, LADDER RACK\, 64K MILES \n(2) MANHOLE TRENCH BOXES\, 10’X10′ \n(2) 8’X20′ TRENCH BOXES \n5′ & 6′ SPREADER BARS \nROCK BOX \nAIRMAN PDS185 S AIR COMPRESSOR ISUZU DSL ENG\, 1211 HRS \n  \nSMALL EQUIPMENT & TOOLS \nKUBOTA RTV 900 DSL\, 4X4\, 1377 HRS? \n(3) 100-GAL FUEL TANKS W/ 12V PUMPS \n(3) 48′ FLATBED TRAILERS (NO TITLES) \n48′ VAN TRAILER (NO TITLE) \n(2) HONDA EU 2000 GENERATORS \nATLAS COPO 8000 WATT GENERATOR \nHONDA 3″ PUMP \nSTIHL TS420 CHOP SAW \nAIR HOSE REELS \nVANGUARD 3″PUMP \nSTIHL MS 311 CHAIN SAW \nSTIHL MS 046 CHAIN SAW \nSUBSURFACE PL-1500 SUE LOCATING TOOL \nHONDA WATER TEST PUMP (BRAND NEW) GAS ENGINE \nHONDA MANHOLE VACCUM TEST PUMP \nHITACHI GAS ENGINE AIR COMPRESSOR \n(2) TOPCON TP-L5 PIPE LASERS \n(2) DAVID WHITE TRANSIT \n(3) RUNNER 24 LASER \n(3) MIKASA JUMPING JACK \nMI-T-M AIR COMPRESSOR\, GAS ENGINE \nLARGE ASSORTMENT OF 4-WAY CHAINS \nPREDATOR 1800 GENERATOR \nMANHOLE RETRACTABLE TRIPOD \nLARGE ASSORTMENT OF 3/4″\, 1″\, 2″\, POLY WATERLINE \n8″ & 12″ TEST PLUGS \nLARGE ASSORTMENT OF 2″\, 4″\, 6″ PVC WATERLINE & SEWER \nLARGE ASSORTMENT OF MEGALUGS & GLAND ASSEMBLIES \n  \nFOR MORE INFORMATION CALL BENNY ROWLAND @ (919) 868-1508 \n  \nCheck www.jasonaycockauctioneering.com for updates.   \n  \nDIRECTIONS: FROM I-40 TAKE EXIT 319 ONTO HWY 210 TO SMITHFIELD. TURN LEFT OFF EXIT AND TRAVEL 1 MILE AND TURN RIGHT ONTO RALEIGH RD. CONTINUE 4.4 MILES TO ELEVATION RD AND TURN RIGHT. SALE SITE IS ON YOUR RIGHT\, WILL BE ½ MILE OFF THE ROAD ON ASPHALT DRIVE.  SALE SITE ADDRESS: 2880 ELEVATION RD\, FOUR OAKS\, NC \n  \n  \nAUCTIONEER NOTE: AFTER 43 YEARS OF GRADING AND UTILITY WORK BENNY HAS DECIDED TO RETIRE DUE TO HEALTH REASONS.  MOST OF THIS EQUIPMENT WAS BOUGHT BRAND NEW.  THIS EQUIPMENT IS LOW HOUR AND HAS ALWAYS BEEN DEALER SERVICED.  IF YOU ARE LOOKING SOME GOOD EQUIPMENT THAT YOU CAN GO TO WORK TOMORROW WITH YOU ARE AT THE RIGHT PLACE.  FOR MORE INFORMATION CALL BENNY @ (919) 868-1508. \n                                                                                                                                                                                                                                                                                                                                                                                                                                                                                                                                                                                                                                                                                                                                                                                                                                                                                                                                                                                                                                                                                                                                                                                                                                                                                                                                                                                                                                                                                                                                                                                                                                                                                                                                                                                                                                                                                                                                                                                                                                                                                                                                                                                                                                                                                                                                                                                                                                                                                                                                                                                                                                                                                                                                                                                                                                                                                                                                                                                                                                                                                                                                                                                                                                                                                                                                                                                                                                                                                                                                                                                                                                                                                                                                                                                                                                                                                                                                                                                                                                                                                                                                                                                                                                                                                                                                                                                                                                                                                                                                                                                                                                                                                                                                                                                                                                                                                                                                                                                                                                                                                                                                                                                                                                                                                                                                                                                                                                                                                                                                                                                                                                                                                                                                                                                                                                                                                                                                                                                                                                                                                                                                                                                                                                                                                                                                                                                                                                                                                                                                                                                                                                         «              ‹              																										of																					3																	                              ›                »
URL:https://aycockauctioneering.com/event/benny-rowland-retirement-construction-equipment-auction-four-oaks-nc-may-23rd-10-am/
LOCATION:2880 ELEVATION RD\, 2880 ELEVATION RD\, FOUR OAKS\, NC\, United States
CATEGORIES:Equipment,Farm Equipment
ATTACH;FMTTYPE=image/jpeg:https://aycockauctioneering.com/wp-content/uploads/2026/04/IMG_6303-scaled.jpg
END:VEVENT
END:VCALENDAR